BEGIN:VCALENDAR
VERSION:2.0
PRODID:Events Booking
BEGIN:VEVENT
UID:69e6d8355e303
SUMMARY:fmpro Instandhaltungstag
DESCRIPTION:VERSCHOBEN vom Veranstalter auf 5. Dezember 2019
LOCATION:Oberwiesenstrasse 101\, 8500 Frauenfeld\, Schweiz
DTSTART:20191107T070000Z
DTEND:20191107T160000Z
DTSTAMP:20260421T035149Z
ORGANIZER;CN=IFMA Schweiz :MAILTO:admin@ifma.ch
GEO:47.55589;8.875229
X-APPLE-STRUCTURED-LOCATION;VALUE=URI;X-ADDRESS=Oberwiesenstrasse 101\, 850
 0 Frauenfeld\, Schweiz;X-APPLE-RADIUS=72;X-TITLE=Frauenfeld\, Zucker AG:47
 .55589;8.875229
END:VEVENT
END:VCALENDAR