BEGIN:VCALENDAR
VERSION:2.0
PRODID:Events Booking
BEGIN:VEVENT
UID:69e6f1d708583
SUMMARY:FM Perspektiven: FM Innovationen digital
DESCRIPTION:Neben zahlreichen spannenden Einblicken in abgeschlossene und a
 ktuelle Forschungsarbeiten - mit hochbrisanten Forschungsfragen rund um di
 e Themen Prozess-Optimierung\, Effizienz- und Qualitätssteigerung - ist d
 er FM Perspektiven Tag 2020 der Digitalisierung im Healthcare gewidmet.
 
 Wegen Corona auf 2. Oktober 2020 verschoben.
LOCATION:Wädenswil\, Schweiz
DTSTART:20200424T060000Z
DTEND:20200424T141500Z
DTSTAMP:20260421T054111Z
ORGANIZER;CN=IFMA Schweiz :MAILTO:admin@ifma.ch
GEO:47.229687;8.671819
X-APPLE-STRUCTURED-LOCATION;VALUE=URI;X-ADDRESS=Wädenswil\, Schweiz;X-APPL
 E-RADIUS=72;X-TITLE=Wädenswil\, ZHAW Campus Reidbach:47.229687;8.671819
END:VEVENT
END:VCALENDAR