BEGIN:VCALENDAR
VERSION:2.0
PRODID:Events Booking
BEGIN:VEVENT
UID:69e9e151b6944
SUMMARY:Fit für die Strom- und Energiemangellage
DESCRIPTION:FEZ&nbsp\; VeranstaltungEine kostenlose Veranstaltung für all 
 jene\, die in den nächsten Monaten Gebäude für die Strom- und Energiema
 ngellage vorbereiten möchten. Die Veranstaltung ist auf Personen ohne gr
 össere technische Vorkenntnisse ausgerichtet (z.B. Eigentümerschaften od
 er Hauswart*innen).
LOCATION:Weinbergstrasse 36\, 8006 Zürich\, Schweiz
DTSTART:20221122T161500Z
DTEND:20221122T180000Z
DTSTAMP:20260423T110729Z
ORGANIZER;CN=IFMA Schweiz :MAILTO:admin@ifma.ch
GEO:47.379872;8.544478
X-APPLE-STRUCTURED-LOCATION;VALUE=URI;X-ADDRESS=Weinbergstrasse 36\, 8006 Z
 ürich\, Schweiz;X-APPLE-RADIUS=72;X-TITLE=Zürich\, Pfarreizentrum Liebfr
 auen:47.379872;8.544478
END:VEVENT
END:VCALENDAR