BEGIN:VCALENDAR
VERSION:2.0
PRODID:Events Booking
BEGIN:VEVENT
UID:69e74d60ee88f
SUMMARY:FEZ Special: Konzepte der 2000-Watt-Gesellschaft in Transformation 
DESCRIPTION:Mit dem grossen Gebäudebestand in der Schweiz stellt sich die 
 Frage\, wie die Ziele der 2000-Watt-Gesellschaft für bestehende Areale un
 d Gebäude umgesetzt werden können. Für Areale gibt es seit 2019 das Zer
 tifikat «2000-Watt-Areale in Transformation»\, welches auf dem SIA Effiz
 ienzpfad Energie (Merkblatt SIA 2040) basiert. Dazu folgen vier Referate u
 nd eine Diskussion
 
 Leitkonzept 2000-Watt-Gesellschaft: Beitrag zu ein
 er klimaneutralen Schweiz
 Mit dem SIA-Effizienzpfad Richtung Netto-Null
 
 Herausforderungen und Lösungsansätze aus der Pilotphase 2000-Watt Area
 l in Transformation
 Portrait eines 2000-Watt-Areals in Transformation: C
 ampus Uni Lausanne Dorigny
 Moderation: Rahel Gessler\, Vorstand Forum En
 ergie Zürich
 
LOCATION:Weinbergstrasse 36\, 8006 Zürich\, Schweiz
DTSTART:20210323T161500Z
DTEND:20210323T180000Z
DTSTAMP:20260421T121144Z
ORGANIZER;CN=IFMA Schweiz :MAILTO:admin@ifma.ch
GEO:47.379872;8.544478
X-APPLE-STRUCTURED-LOCATION;VALUE=URI;X-ADDRESS=Weinbergstrasse 36\, 8006 Z
 ürich\, Schweiz;X-APPLE-RADIUS=72;X-TITLE=Zürich\, Pfarreizentrum Liebfr
 auen:47.379872;8.544478
END:VEVENT
END:VCALENDAR