BEGIN:VCALENDAR
VERSION:2.0
PRODID:Events Booking
BEGIN:VEVENT
UID:69e5e550c15c0
SUMMARY:IFMA Expert Talk: environnement de travail 
DESCRIPTION:16.6.2016 l 17.00-19.30h
 Le chapitre Romand de l'IFMA Suisse\
 , le Facility Management de Merck Serono et la direction de Colliers Inter
 national ont le plaisir de vous inviter à un «Expert Talk» dans lequel 
 vous pouvez découvrir ce qu’est un environnement de travail «activity-
 based» (dynamique) et ce qu’il peut signifier pour vous en tant que Fac
 ility Manager.
 Nous serons aimablement reçus par Monsieur Patrice Chala
 ncon\, Manager services et Facilities Management de Merck Serono.
 Progra
 mme
 Nous vous demandons de bien vouloir vous inscrire jusqu’au vendred
 i 10 juin 2016.
 
LOCATION:Rue de l'Ouriette\, 1170 Aubonne\, Schweiz
DTSTART:20160616T150000Z
DTEND:20160616T173000Z
DTSTAMP:20260420T103528Z
ORGANIZER;CN=IFMA Schweiz :MAILTO:admin@ifma.ch
GEO:46.486425;6.400346
X-APPLE-STRUCTURED-LOCATION;VALUE=URI;X-ADDRESS=Rue de l'Ouriette\, 1170 Au
 bonne\, Schweiz;X-APPLE-RADIUS=72;X-TITLE=Aubonne\, Merck Serono\, bâtime
 nt Z:46.486425;6.400346
END:VEVENT
END:VCALENDAR