BEGIN:VCALENDAR
VERSION:2.0
PRODID:Events Booking
BEGIN:VEVENT
UID:69e9e069ac16a
SUMMARY:EuroFM Students' Festival
DESCRIPTION:The second of the EuroFM \"Stay Connected Sessions\" is&nbsp\;c
 ompletely dedicated to future talent and is filled with fresh ideas presen
 ted by the next generation of FM professionals.
DTSTART:20200618T120000Z
DTEND:20200618T170000Z
DTSTAMP:20260423T110337Z
ORGANIZER;CN=IFMA Schweiz :MAILTO:admin@ifma.ch
END:VEVENT
END:VCALENDAR