BEGIN:VCALENDAR
VERSION:2.0
PRODID:Events Booking
BEGIN:VEVENT
UID:69e70aab2fe54
SUMMARY:Etappierte Sanierung Spiegelgasse\, Zürich
DESCRIPTION:Als eine der ersten PV-Anlagen\, die im Niederdorf realisiert w
 urde\, meistert das Projekt das Spannungsfeld zwischen Denkmalschutz und E
 nergieeffizienz.
 Führung durch:Walter Lämmler\, BauherrUlrich Schlegel
 \, dipl. Architekt ETH SIA\, Schlegel Architekten
DTSTART:20200707T151500Z
DTEND:20200707T170000Z
DTSTAMP:20260421T072707Z
ORGANIZER;CN=IFMA Schweiz :MAILTO:admin@ifma.ch
END:VEVENT
END:VCALENDAR