BEGIN:VCALENDAR
VERSION:2.0
PRODID:Events Booking
BEGIN:VEVENT
UID:69e6d898da099
SUMMARY:Energie VorOrt: Berufsschule Mode und Gestaltung
DESCRIPTION:In der Berufsschule Mode und Gestaltung Zürich werden rund tau
 send Lernende unterrichtet. Über fünfzig Jahre nach dem Bezug musste das
  Schulhaus umfassend instandgesetzt werden und erfüllt nun die Anforderun
 gen des \"Standard Nachhaltigkeit Hochbau\" des Kantons&nbsp\; Zürich.
LOCATION:Ackerstrasse 30\, 8005 Zürich\, Schweiz
DTSTART:20191001T151500Z
DTEND:20191001T170000Z
DTSTAMP:20260421T035328Z
ORGANIZER;CN=IFMA Schweiz :MAILTO:admin@ifma.ch
GEO:47.382498;8.532376
X-APPLE-STRUCTURED-LOCATION;VALUE=URI;X-ADDRESS=Ackerstrasse 30\, 8005 Zür
 ich\, Schweiz;X-APPLE-RADIUS=72;X-TITLE=Zürich\, Berufsschule Mode und Ge
 staltung:47.382498;8.532376
END:VEVENT
END:VCALENDAR