BEGIN:VCALENDAR
VERSION:2.0
PRODID:Events Booking
BEGIN:VEVENT
UID:69e70a8de82b8
SUMMARY:Conférence BIM 2020
DESCRIPTION:Pour l’édition de cette année\, onze représentants d’ass
 ociations professionnelles\, d’entrepreneurs\, de constructeurs\, de bur
 eaux d’ingénieurs et architectes ainsi que des représentants de la for
 mation (hautes écoles universitaires) et de l'administration sont présen
 t.
 La Conférence BIM 2020 est annulée
LOCATION:Route Louis-Favre 2\, 1024 Ecublens\, Schweiz
DTSTART:20201029T073000Z
DTEND:20201029T154500Z
DTSTAMP:20260421T072637Z
ORGANIZER;CN=IFMA Schweiz :MAILTO:admin@ifma.ch
GEO:46.523083;6.564642
X-APPLE-STRUCTURED-LOCATION;VALUE=URI;X-ADDRESS=Route Louis-Favre 2\, 1024 
 Ecublens\, Schweiz;X-APPLE-RADIUS=72;X-TITLE=Lausanne\, Swiss Tech Convent
 ion:46.523083;6.564642
END:VEVENT
END:VCALENDAR