BEGIN:VCALENDAR
VERSION:2.0
PRODID:Events Booking
BEGIN:VEVENT
UID:69e66857078eb
SUMMARY:Triviale Fehler - grosse Auswirkungen
DESCRIPTION:Messgenauigkeit: Kleine Fehler mit grossen Auswirkungen:
 
 W
 ie \"genau\" sind die gängigen Fühler der Klimatechnik?
 Wo liegen die 
 Unterschiede\, auch hinsichtlich Langzeit-Stabilität?
 Was muss beachtet
  werden?
 
LOCATION:Beatenpl. 2\, 8001 Zürich\, Schweiz
DTSTART:20170628T154500Z
DTEND:20170628T171500Z
DTSTAMP:20260420T195431Z
ORGANIZER;CN=IFMA Schweiz :MAILTO:admin@ifma.ch
GEO:47.37578;8.540698
X-APPLE-STRUCTURED-LOCATION;VALUE=URI;X-ADDRESS=Beatenpl. 2\, 8001 Zürich\
 , Schweiz;X-APPLE-RADIUS=72;X-TITLE=Zürich\, EWZ Vortragssaal:47.37578;8.
 540698
END:VEVENT
END:VCALENDAR