BEGIN:VCALENDAR
VERSION:2.0
PRODID:Events Booking
BEGIN:VEVENT
UID:69e7d1c15e512
SUMMARY:Architektur und Energie Reise 2023 
DESCRIPTION:Programm\, geplante Highlights und Kosten:
 
 Führung durch 
 die zeitgenössische und historische Architektur der Münchner Innenstadt
 
 Führung zur Stadtplanung München
 Energetische Highlights wie beispie
 lsweise Europas einzige Solar-Nahwärme-Anlage
 Einblicke in Münchner Br
 auereikultur
 
 Weitere Informationen sowie detaillierteres Programm fol
 gen.Das Programm wird so ausgestaltet sein\, dass genügend Zeit für den 
 persönlichen und fachlichen Austausch unter den Teilnehmenden vorhanden i
 st.
LOCATION:München\, Deutschland
DTSTART:20230616T060000Z
DTEND:20230617T180000Z
DTSTAMP:20230317T135551Z
ORGANIZER;CN=IFMA Schweiz :MAILTO:admin@ifma.ch
GEO:48.135125;11.581981
X-APPLE-STRUCTURED-LOCATION;VALUE=URI;X-ADDRESS=München\, Deutschland;X-AP
 PLE-RADIUS=72;X-TITLE=München:48.135125;11.581981
END:VEVENT
END:VCALENDAR