BEGIN:VCALENDAR
VERSION:2.0
PRODID:Events Booking
BEGIN:VEVENT
UID:69e726cb537c1
SUMMARY:AI’s got talent\, do humans? - Who will develop the city of the f
 uture?
DESCRIPTION:In this 3rd European regional World Built Environment Forum web
 inar\, technology experts\, HR managers and education providers will discu
 ss:
 
 what the skills of tomorrow will look like and the new role of a 
 skilled workforce\;
 how technology\, such as AI\, Big Data and 5G is pro
 gressing\; and
 the impact technology will have on real estate and constr
 uction sectors as well as cities.
 
 Our lively panel discussion will in
 clude speakers&nbsp\;from the European Commission Joint Research Centre\, 
 Google\, Siemens and key players in the field of HR and education across E
 urope.
DTSTART:20200915T120000Z
DTEND:20200915T130000Z
DTSTAMP:20260421T092707Z
ORGANIZER;CN=IFMA Schweiz :MAILTO:admin@ifma.ch
END:VEVENT
END:VCALENDAR