BEGIN:VCALENDAR
VERSION:2.0
PRODID:Events Booking
BEGIN:VEVENT
UID:69e51183475d0
SUMMARY:19. Nationale Photovoltaik Tagung
DESCRIPTION:Die Schweizer PV-Branche ist von der Corona-Pandemie bisher wen
 ig betroffen\, sie spürt sogar Aufwind. Aber noch viel mehr Zubau wäre m
 öglich und notwendig. Es steht die Frage im Zentrum\, wie mit einem verst
 ärkten Ausbau der Solarenergie die Klimakrise überwunden und gleichzeiti
 g ein Beitrag zum wirtschaftlichen Aufschwung nach der Pandemie geleistet 
 werden kann.
LOCATION:Kornhausstrasse 3\, 3013 Bern\, Schweiz
DTSTART:20210701T060000Z
DTEND:20210702T140000Z
DTSTAMP:20260419T193147Z
ORGANIZER;CN=IFMA Schweiz :MAILTO:admin@ifma.ch
GEO:46.95343;7.448592
X-APPLE-STRUCTURED-LOCATION;VALUE=URI;X-ADDRESS=Kornhausstrasse 3\, 3013 Be
 rn\, Schweiz;X-APPLE-RADIUS=72;X-TITLE=Bern\, Kongress- und Kursaal:46.953
 43;7.448592
END:VEVENT
END:VCALENDAR